BEGIN:VCALENDAR
VERSION:2.0
PRODID:-//ChamberMaster//Event Calendar 2.0//EN
METHOD:PUBLISH
X-PUBLISHED-TTL:P3D
REFRESH-INTERVAL:P3D
CALSCALE:GREGORIAN
BEGIN:VEVENT
DTSTART:20221019T130000Z
DTEND:20221019T170000Z
X-MICROSOFT-CDO-ALLDAYEVENT:FALSE
SUMMARY:2022 PSEG Supplier Diversity Fair & Matchmaker
DESCRIPTION:2022 PSEG Supplier Diversity Fair & Matchmaker
X-ALT-DESC;FMTTYPE=text/html:<a href="https://eventdex.com/pseg/index.html">2022 PSEG Supplier Diversity Fair &amp\; Matchmaker</a>
LOCATION:Virtual
UID:e.2131.1256
SEQUENCE:3
DTSTAMP:20260421T004321Z
URL:https://business.njpridechamber.org/events/details/2022-pseg-supplier-diversity-fair-matchmaker-1256
END:VEVENT

END:VCALENDAR
